BEGIN:VCALENDAR
VERSION:2.0
PRODID:-//Plone.org//NONSGML plone.app.event//EN
X-WR-TIMEZONE:Europe/Rome
BEGIN:VEVENT
SUMMARY:L’apporto della psicoanalisi alla democrazia
DTSTART;VALUE=DATE-TIME:20110401T153000Z
DTEND;VALUE=DATE-TIME:20110401T173000Z
DTSTAMP;VALUE=DATE-TIME:20260420T183345Z
UID:ac4ee5fe683c8d61edeacd29cf3a1045@127.0.0.1:8095
CATEGORIES:seminario
CONTACT:Istituto De Gasperi\, istituto@istitutodegasperibologna.it
CREATED;VALUE=DATE-TIME:20110328T141429Z
DESCRIPTION:Seminario conclusivo del Corso su "Le relazioni di potere nell
 a società  contemporanea. Dalla potenza del tiranno al potere sociale"
LAST-MODIFIED;VALUE=DATE-TIME:20110829T085003Z
LOCATION:Bologna\, Palazzo d'Accursio
URL:https://www.ausl.bologna.it/eventi/archivio/auslevent.2011-03-28.46687
 33800
END:VEVENT
END:VCALENDAR
