BEGIN:VCALENDAR
VERSION:2.0
PRODID:-//Plone.org//NONSGML plone.app.event//EN
X-WR-TIMEZONE:Europe/Rome
BEGIN:VEVENT
SUMMARY:Ruolo dell'imaging nella gestione del paziente con pancreatite acu
 ta
DTSTART;VALUE=DATE-TIME:20111107T130000Z
DTEND;VALUE=DATE-TIME:20111107T160000Z
DTSTAMP;VALUE=DATE-TIME:20260420T183542Z
UID:08dee3437c07f153c8577525280769c9@127.0.0.1:8095
CATEGORIES:Aggiornamento
CREATED;VALUE=DATE-TIME:20110328T100132Z
DESCRIPTION:Lunedì di aggiornamento in Radiologia Gastroenterologica 2011
 .  A cura del Dipartimento Servizi - Area Diagnostica per immagini
LAST-MODIFIED;VALUE=DATE-TIME:20110829T084956Z
LOCATION:Bologna\, Ospedale Bellaria
URL:https://www.ausl.bologna.it/eventi/archivio/auslevent.2011-03-28.40963
 65611
END:VEVENT
END:VCALENDAR
