BEGIN:VCALENDAR
VERSION:2.0
PRODID:-//Plone.org//NONSGML plone.app.event//EN
X-WR-TIMEZONE:Europe/Rome
BEGIN:VEVENT
SUMMARY:La rilevanza sociale della ricerca in psicologia
DTSTART;VALUE=DATE-TIME:20110407T070000Z
DTEND;VALUE=DATE-TIME:20110408T170000Z
DTSTAMP;VALUE=DATE-TIME:20260420T183518Z
UID:bca0870746e34e5a47d831eed950a469@127.0.0.1:8095
CATEGORIES:Convegno
CONTACT:rsrp@unipr.it
CREATED;VALUE=DATE-TIME:20110328T130108Z
LAST-MODIFIED;VALUE=DATE-TIME:20110829T084958Z
LOCATION:Parma\, Centro Congressi
URL:https://www.ausl.bologna.it/eventi/archivio/auslevent.2011-03-28.31204
 21767
END:VEVENT
END:VCALENDAR
