BEGIN:VCALENDAR
VERSION:2.0
PRODID:-//Plone.org//NONSGML plone.app.event//EN
X-WR-TIMEZONE:Europe/Rome
BEGIN:VEVENT
SUMMARY:La Colon TC: utilità clinica ed esperienze a confronto
DTSTART;VALUE=DATE-TIME:20111010T130000Z
DTEND;VALUE=DATE-TIME:20111010T150000Z
DTSTAMP;VALUE=DATE-TIME:20260420T183519Z
UID:ead48cf06d2436e124e538b7f46d0717@127.0.0.1:8095
CATEGORIES:Aggiornamento
CREATED;VALUE=DATE-TIME:20110328T095749Z
DESCRIPTION:Lunedì di aggiornamento in Radiologia Gastroenterologica 2011
 .  A cura del Dipartimento Servizi - Area Diagnostica per immagini
LAST-MODIFIED;VALUE=DATE-TIME:20110829T084955Z
LOCATION:Bologna\, Ospedale Bellaria
URL:https://www.ausl.bologna.it/eventi/archivio/auslevent.2011-03-28.19707
 50131
END:VEVENT
END:VCALENDAR
