BEGIN:VCALENDAR
VERSION:2.0
PRODID:-//Plone.org//NONSGML plone.app.event//EN
X-WR-TIMEZONE:Europe/Rome
BEGIN:VEVENT
SUMMARY:Convegno: Disturbi dello spettro autistico
DTSTART;VALUE=DATE-TIME:20110402T064500Z
DTEND;VALUE=DATE-TIME:20110402T153000Z
DTSTAMP;VALUE=DATE-TIME:20260420T183730Z
UID:a9b76a235e75da69cb1d256cd82b5b6a@127.0.0.1:8095
CATEGORIES:Convegno
CREATED;VALUE=DATE-TIME:20110324T160746Z
DESCRIPTION:Psicoterapia psicoanalitica e la Rete di Ricerca Internazional
 e INSERM
LAST-MODIFIED;VALUE=DATE-TIME:20110829T084946Z
LOCATION:Roma\, Università "La Sapienza"
URL:https://www.ausl.bologna.it/eventi/archivio/auslevent.2011-03-24.72405
 05197
END:VEVENT
END:VCALENDAR
