BEGIN:VCALENDAR
VERSION:2.0
PRODID:-//Plone.org//NONSGML plone.app.event//EN
X-WR-TIMEZONE:Europe/Rome
BEGIN:VEVENT
SUMMARY:Inaugurazione Dialisi di Vergato
DTSTART;VALUE=DATE-TIME:20110327T090000Z
DTEND;VALUE=DATE-TIME:20110327T103000Z
DTSTAMP;VALUE=DATE-TIME:20260420T183517Z
UID:54ff141d0ca18223133df83c72ac3b92@127.0.0.1:8095
CATEGORIES:Inaugurazione
CREATED;VALUE=DATE-TIME:20110322T103025Z
LAST-MODIFIED;VALUE=DATE-TIME:20110829T084032Z
LOCATION:Ospedale Civile\, Vergato
URL:https://www.ausl.bologna.it/eventi/archivio/auslevent.2011-03-22.34718
 93984
END:VEVENT
END:VCALENDAR
