BEGIN:VCALENDAR
VERSION:2.0
PRODID:-//Plone.org//NONSGML plone.app.event//EN
X-WR-TIMEZONE:Europe/Rome
BEGIN:VEVENT
SUMMARY:Corso di aggiornamento in chirurgia generale
DTSTART;VALUE=DATE-TIME:20110507T070000Z
DTEND;VALUE=DATE-TIME:20110507T143000Z
DTSTAMP;VALUE=DATE-TIME:20260420T183517Z
UID:22046181e9a2ebfecfaab9ae85dd0868@127.0.0.1:8095
CATEGORIES:corso
CREATED;VALUE=DATE-TIME:20110322T135222Z
DESCRIPTION:Per medici di medicina generale
LAST-MODIFIED;VALUE=DATE-TIME:20110829T084943Z
LOCATION:Bentivoglio\, ZanHotel Centergross
URL:https://www.ausl.bologna.it/eventi/archivio/auslevent.2011-03-22.31782
 03312
END:VEVENT
END:VCALENDAR
