BEGIN:VCALENDAR
VERSION:2.0
PRODID:-//Plone.org//NONSGML plone.app.event//EN
X-WR-TIMEZONE:Europe/Rome
BEGIN:VEVENT
SUMMARY:Salute e Benessere: ovvero… come difendersi dal tumore al seno e
 d altri guai
DTSTART;VALUE=DATE-TIME:20110406T183000Z
DTEND;VALUE=DATE-TIME:20110406T203000Z
DTSTAMP;VALUE=DATE-TIME:20260420T183518Z
UID:2e5f9ff2fa7a2570c4bd9b9926f95e5c@127.0.0.1:8095
CATEGORIES:Incontro
CONTACT:Associazione dipetto\, teresa.calzati@alice.it
CREATED;VALUE=DATE-TIME:20110321T093618Z
DESCRIPTION:Incontro sul tema “L’alimentazione al femminile: Corretti 
 stili di vita e comportamenti alimentari a difesa della salute”
LAST-MODIFIED;VALUE=DATE-TIME:20110829T084954Z
LOCATION:San Giovanni in Persiceto\, Centro Sociale "La Stalla"
URL:https://www.ausl.bologna.it/eventi/archivio/auslevent.2011-03-21.99681
 38264
END:VEVENT
END:VCALENDAR
