BEGIN:VCALENDAR
VERSION:2.0
PRODID:-//Plone.org//NONSGML plone.app.event//EN
X-WR-TIMEZONE:Europe/Rome
BEGIN:VEVENT
SUMMARY:“Cosa resta del padre? La paternità nell’epoca ipermoderna
DTSTART;VALUE=DATE-TIME:20110330T163000Z
DTEND;VALUE=DATE-TIME:20110330T180000Z
DTSTAMP;VALUE=DATE-TIME:20260420T183722Z
UID:d60298811042cf73d8987c9ec9b11fb0@127.0.0.1:8095
CATEGORIES:Incontro con l'autore
CONTACT:JONAS BOLOGNA\, bologna@jonasonlus.it
CREATED;VALUE=DATE-TIME:20110321T100600Z
DESCRIPTION:Presentazione dell’ultimo libro del Prof. Massimo Recalcati 
LAST-MODIFIED;VALUE=DATE-TIME:20110829T084959Z
LOCATION:Bologna\, Libreria delle Moline
URL:https://www.ausl.bologna.it/eventi/archivio/auslevent.2011-03-21.77566
 40784
END:VEVENT
END:VCALENDAR
