BEGIN:VCALENDAR
VERSION:2.0
PRODID:-//Plone.org//NONSGML plone.app.event//EN
X-WR-TIMEZONE:Europe/Rome
BEGIN:VEVENT
SUMMARY:CURA\, GUARISCI\, RISARCISCI: DALLA PARTE DEI PAZIENTI\, DALLA PAR
 TE DEI MEDICI
DTSTART;VALUE=DATE-TIME:20110513T073000Z
DTEND;VALUE=DATE-TIME:20110513T153000Z
DTSTAMP;VALUE=DATE-TIME:20260420T183729Z
UID:084d5fdafa822c38d57218ffaa930594@127.0.0.1:8095
CATEGORIES:Convegno
CONTACT:Corso Bocciolini\, cbocciolini@hotmail.com
CREATED;VALUE=DATE-TIME:20110321T110110Z
LAST-MODIFIED;VALUE=DATE-TIME:20110829T084032Z
LOCATION:Bologna\, Ospedale Maggiore
URL:https://www.ausl.bologna.it/eventi/archivio/auslevent.2011-03-21.61155
 98738
END:VEVENT
END:VCALENDAR
