BEGIN:VCALENDAR
VERSION:2.0
PRODID:-//Plone.org//NONSGML plone.app.event//EN
X-WR-TIMEZONE:Europe/Rome
BEGIN:VEVENT
SUMMARY:Salute e Benessere: ovvero… come difendersi dal tumore al seno e
 d altri guai
DTSTART;VALUE=DATE-TIME:20110330T183000Z
DTEND;VALUE=DATE-TIME:20110330T203000Z
DTSTAMP;VALUE=DATE-TIME:20260420T183723Z
UID:bc26447aff43097d66a61dcbbd2e187d@127.0.0.1:8095
CATEGORIES:Incontro
CONTACT:Associazione dipetto\, teresa.calzati@alice.it
CREATED;VALUE=DATE-TIME:20110321T093216Z
DESCRIPTION:Incontro sul tema "“Prevenzione e cura del tumore al seno”
LAST-MODIFIED;VALUE=DATE-TIME:20110829T084951Z
LOCATION:San Giovanni in Persiceto\, Centro Sociale "La Stalla"
URL:https://www.ausl.bologna.it/eventi/archivio/auslevent.2011-03-21.46431
 16662
END:VEVENT
END:VCALENDAR
