BEGIN:VCALENDAR
VERSION:2.0
PRODID:-//Plone.org//NONSGML plone.app.event//EN
X-WR-TIMEZONE:Europe/Rome
BEGIN:VEVENT
SUMMARY:Salute e Benessere: ovvero… come difendersi dal tumore al seno e
 d altri guai
DTSTART;VALUE=DATE-TIME:20110420T183000Z
DTEND;VALUE=DATE-TIME:20110420T203000Z
DTSTAMP;VALUE=DATE-TIME:20260420T183207Z
UID:7f368ab711823a2c256362ae84cdb8fc@127.0.0.1:8095
CATEGORIES:Incontro
CONTACT:Associazione dipetto\, teresa.calzati@alice.it
CREATED;VALUE=DATE-TIME:20110321T094148Z
DESCRIPTION:Incontro sul tema "Auto Mutuo Aiuto: che cos'è?"
LAST-MODIFIED;VALUE=DATE-TIME:20110829T084957Z
LOCATION:San Giovanni in Persiceto\, Centro Sociale "La Stalla"
URL:https://www.ausl.bologna.it/eventi/archivio/auslevent.2011-03-21.39154
 79215
END:VEVENT
END:VCALENDAR
