BEGIN:VCALENDAR
VERSION:2.0
PRODID:-//Plone.org//NONSGML plone.app.event//EN
X-WR-TIMEZONE:Europe/Rome
BEGIN:VEVENT
SUMMARY:Salute e Benessere: ovvero… come difendersi dal tumore al seno e
 d altri guai
DTSTART;VALUE=DATE-TIME:20110413T183000Z
DTEND;VALUE=DATE-TIME:20110413T203000Z
DTSTAMP;VALUE=DATE-TIME:20260420T183345Z
UID:04bb0196f859bcf6490333f32f6fc378@127.0.0.1:8095
CATEGORIES:Incontro
CONTACT:Associazione dipetto\, teresa.calzati@alice.it
CREATED;VALUE=DATE-TIME:20110321T093843Z
DESCRIPTION:Incontro sul tema "Stress e malattia"
LAST-MODIFIED;VALUE=DATE-TIME:20110829T084955Z
LOCATION:San Giovanni in Persiceto\, Centro Sociale "La Stalla"
URL:https://www.ausl.bologna.it/eventi/archivio/auslevent.2011-03-21.21747
 51590
END:VEVENT
END:VCALENDAR
