BEGIN:VCALENDAR
VERSION:2.0
PRODID:-//Plone.org//NONSGML plone.app.event//EN
X-WR-TIMEZONE:Europe/Rome
BEGIN:VEVENT
SUMMARY:La riabilitazione della persona con ictus
DTSTART;VALUE=DATE-TIME:20110326T080000Z
DTEND;VALUE=DATE-TIME:20110326T120000Z
DTSTAMP;VALUE=DATE-TIME:20260420T183631Z
UID:2cd1f5ea06080000987af71f6c34e178@127.0.0.1:8095
CATEGORIES:Convegno
CREATED;VALUE=DATE-TIME:20110321T104555Z
DESCRIPTION:Convegno delle Associazioni A.L.I.Ce. della Regione Emilia Rom
 agna
LAST-MODIFIED;VALUE=DATE-TIME:20110829T084030Z
LOCATION:Bologna\, Palazzo D'Accursio
URL:https://www.ausl.bologna.it/eventi/archivio/auslevent.2011-03-21.17646
 96397
END:VEVENT
END:VCALENDAR
