BEGIN:VCALENDAR
VERSION:2.0
PRODID:-//Plone.org//NONSGML plone.app.event//EN
X-WR-TIMEZONE:Europe/Rome
BEGIN:VEVENT
SUMMARY:ARGOMENTI DI GASTROENTEROLOGIA IN TEMA DI CONTINUITA' ASSISTESTENZ
 IALE
DTSTART;VALUE=DATE-TIME:20110409T061500Z
DTEND;VALUE=DATE-TIME:20110409T130000Z
DTSTAMP;VALUE=DATE-TIME:20260420T183633Z
UID:6e01fe97e8f2952cf9ad57c86881698b@127.0.0.1:8095
CATEGORIES:corso
CONTACT:I&C srl\, alessandra.bolognini@iec-srl.it
CREATED;VALUE=DATE-TIME:20110311T103517Z
DESCRIPTION:Corso di aggiornamento per medici di medicina generale\, medic
 i ospedalieri e infermieri
LAST-MODIFIED;VALUE=DATE-TIME:20110829T084948Z
LOCATION:Bentivoglio\, Zanhotel & Meeting Centergross
URL:https://www.ausl.bologna.it/eventi/archivio/auslevent.2011-03-11.22414
 26336
END:VEVENT
END:VCALENDAR
