BEGIN:VCALENDAR
VERSION:2.0
PRODID:-//Plone.org//NONSGML plone.app.event//EN
X-WR-TIMEZONE:Europe/Rome
BEGIN:VEVENT
SUMMARY:Conferenza stampa di presentazione di "Strabologna - Vivi città 2
 011"
DTSTART;VALUE=DATE-TIME:20110330T100000Z
DTEND;VALUE=DATE-TIME:20110330T110000Z
DTSTAMP;VALUE=DATE-TIME:20260420T183632Z
UID:a62098fbb8b0f0a7419797e4187eee81@127.0.0.1:8095
CREATED;VALUE=DATE-TIME:20110310T111639Z
LAST-MODIFIED;VALUE=DATE-TIME:20110829T084032Z
LOCATION:Bologna\, Palazzo d'Accursio
URL:https://www.ausl.bologna.it/eventi/archivio/auslevent.2011-03-10.67064
 22262
END:VEVENT
END:VCALENDAR
