BEGIN:VCALENDAR
VERSION:2.0
PRODID:-//Plone.org//NONSGML plone.app.event//EN
X-WR-TIMEZONE:Europe/Rome
BEGIN:VEVENT
SUMMARY:Strabologna Vivicittà 2011
DTSTART;VALUE=DATE-TIME:20110402T120000Z
DTEND;VALUE=DATE-TIME:20110403T163000Z
DTSTAMP;VALUE=DATE-TIME:20260420T183649Z
UID:76087a6fec5ab44065829629f16098c6@127.0.0.1:8095
CATEGORIES:Camminata e corsa campestre
CREATED;VALUE=DATE-TIME:20110310T121313Z
DESCRIPTION:Corri con noi... Datti una mossa!
LAST-MODIFIED;VALUE=DATE-TIME:20110829T084942Z
LOCATION:Bologna\, Piazza Maggiore
URL:https://www.ausl.bologna.it/eventi/archivio/auslevent.2011-03-10.03875
 34365
END:VEVENT
END:VCALENDAR
