BEGIN:VCALENDAR
VERSION:2.0
PRODID:-//Plone.org//NONSGML plone.app.event//EN
X-WR-TIMEZONE:Europe/Rome
BEGIN:VEVENT
SUMMARY:Sballo. Nuove tipologie di consumo di droga nei giovani
DTSTART;VALUE=DATE-TIME:20110329T160000Z
DTEND;VALUE=DATE-TIME:20110329T180000Z
DTSTAMP;VALUE=DATE-TIME:20260420T183543Z
UID:3d63e33946e2a2e9ababa82e5a39ba15@127.0.0.1:8095
CATEGORIES:Incontro con l'autore
CREATED;VALUE=DATE-TIME:20110309T101624Z
DESCRIPTION:Presentazione del libro di Alessandro Dionigi e Raimondo Maria
  Pavarin
LAST-MODIFIED;VALUE=DATE-TIME:20110829T084031Z
LOCATION:Bologna\, Libreria Coop Ambasciatori
URL:https://www.ausl.bologna.it/eventi/archivio/auslevent.2011-03-09.60799
 12007
END:VEVENT
END:VCALENDAR
