BEGIN:VCALENDAR
VERSION:2.0
PRODID:-//Plone.org//NONSGML plone.app.event//EN
X-WR-TIMEZONE:Europe/Rome
BEGIN:VEVENT
SUMMARY:Convegno regionale della Società Italiana di Pediatria
DTSTART;VALUE=DATE-TIME:20110326T073000Z
DTEND;VALUE=DATE-TIME:20110326T160000Z
DTSTAMP;VALUE=DATE-TIME:20260420T183724Z
UID:6ae5d34db7568aec385cd16145e63349@127.0.0.1:8095
CATEGORIES:Convegno
CONTACT:DueCi Promotion srl\, piacucci@duecipromotion.com
CREATED;VALUE=DATE-TIME:20110307T095144Z
DESCRIPTION:Sezione Emilia - Romagna
LAST-MODIFIED;VALUE=DATE-TIME:20110829T084027Z
LOCATION:Castel San Pietro Terme
URL:https://www.ausl.bologna.it/eventi/archivio/auslevent.2011-03-07.76645
 60243
END:VEVENT
END:VCALENDAR
