BEGIN:VCALENDAR
VERSION:2.0
PRODID:-//Plone.org//NONSGML plone.app.event//EN
X-WR-TIMEZONE:Europe/Rome
BEGIN:VEVENT
SUMMARY:Laboratori di formazione
DTSTART;VALUE=DATE-TIME:20110309T073000Z
DTEND;VALUE=DATE-TIME:20110309T160000Z
DTSTAMP;VALUE=DATE-TIME:20260420T183722Z
UID:320b4f8a972e0fea21b324457852905a@127.0.0.1:8095
CATEGORIES:corso
CONTACT:Dina Donati\, dina.donati@ausl.bologna.it
CREATED;VALUE=DATE-TIME:20110307T124724Z
DESCRIPTION:Ascolto delle donne vittime di violenza
LAST-MODIFIED;VALUE=DATE-TIME:20110829T084028Z
LOCATION:Bentivoglio\, Aula Gialla Ospedale
URL:https://www.ausl.bologna.it/eventi/archivio/auslevent.2011-03-07.74170
 72394
END:VEVENT
END:VCALENDAR
