BEGIN:VCALENDAR
VERSION:2.0
PRODID:-//Plone.org//NONSGML plone.app.event//EN
X-WR-TIMEZONE:Europe/Rome
BEGIN:VEVENT
SUMMARY:Laboratori di formazione
DTSTART;VALUE=DATE-TIME:20110316T073000Z
DTEND;VALUE=DATE-TIME:20110316T160000Z
DTSTAMP;VALUE=DATE-TIME:20260420T183339Z
UID:d02f3fd688baf939ff095bc1a3811f6f@127.0.0.1:8095
CATEGORIES:corso
CONTACT:Dina Donati\, dina.donati@ausl.bologna.it
CREATED;VALUE=DATE-TIME:20110307T124945Z
DESCRIPTION:Ascolto delle donne vittime di violenza
LAST-MODIFIED;VALUE=DATE-TIME:20110829T084029Z
LOCATION:Bentivoglio\, Aula Gialla Ospedale
URL:https://www.ausl.bologna.it/eventi/archivio/auslevent.2011-03-07.10941
 81599
END:VEVENT
END:VCALENDAR
