BEGIN:VCALENDAR
VERSION:2.0
PRODID:-//Plone.org//NONSGML plone.app.event//EN
X-WR-TIMEZONE:Europe/Rome
BEGIN:VEVENT
SUMMARY:Ambiente lavoro
DTSTART;VALUE=DATE-TIME:20110503T070000Z
DTEND;VALUE=DATE-TIME:20110505T153000Z
DTSTAMP;VALUE=DATE-TIME:20260420T183648Z
UID:d1efc1f09b955fe147e25ed0e6f6f70e@127.0.0.1:8095
CREATED;VALUE=DATE-TIME:20110304T123012Z
DESCRIPTION:Salone della salute e della sicurezza nei luoghi di lavoro
LAST-MODIFIED;VALUE=DATE-TIME:20110829T084026Z
LOCATION:Bologna\, Quartiere Fieristico
URL:https://www.ausl.bologna.it/eventi/archivio/auslevent.2011-03-04.57077
 36999
END:VEVENT
END:VCALENDAR
