BEGIN:VCALENDAR
VERSION:2.0
PRODID:-//Plone.org//NONSGML plone.app.event//EN
X-WR-TIMEZONE:Europe/Rome
BEGIN:VEVENT
SUMMARY:EUROPEAN TRAUMA COURSE
DTSTART;VALUE=DATE-TIME:20110304T070000Z
DTEND;VALUE=DATE-TIME:20110306T130000Z
DTSTAMP;VALUE=DATE-TIME:20260420T183516Z
UID:1996136cea834b347ec616a87d301777@127.0.0.1:8095
CONTACT:Carlo Coniglio\, c.coniglio@118er.it
CREATED;VALUE=DATE-TIME:20110302T115720Z
LAST-MODIFIED;VALUE=DATE-TIME:20110829T084026Z
LOCATION:Bologna\, Ospedale Maggiore
URL:https://www.ausl.bologna.it/eventi/archivio/auslevent.2011-03-02.82669
 92684
END:VEVENT
END:VCALENDAR
