BEGIN:VCALENDAR
VERSION:2.0
PRODID:-//Plone.org//NONSGML plone.app.event//EN
X-WR-TIMEZONE:Europe/Rome
BEGIN:VEVENT
SUMMARY:Seminario "Manipolazione mentale e violenza psicologica"
DTSTART;VALUE=DATE-TIME:20110308T140000Z
DTEND;VALUE=DATE-TIME:20110308T173000Z
DTSTAMP;VALUE=DATE-TIME:20260420T164714Z
UID:2baaf3cd0fe7f8159920adc0ec853059@127.0.0.1:8095
CATEGORIES:seminario
CONTACT:Circolo Ravone\, 051 6478495
CREATED;VALUE=DATE-TIME:20110301T110246Z
DESCRIPTION:Iniziativa in occasione della Festa della Donna
LAST-MODIFIED;VALUE=DATE-TIME:20110829T084021Z
LOCATION:Bologna\, Ospedale Maggiore
URL:https://www.ausl.bologna.it/eventi/archivio/auslevent.2011-03-01.87617
 30053
END:VEVENT
END:VCALENDAR
