BEGIN:VCALENDAR
VERSION:2.0
PRODID:-//Plone.org//NONSGML plone.app.event//EN
X-WR-TIMEZONE:Europe/Rome
BEGIN:VEVENT
SUMMARY:Un giorno con noi...
DTSTART;VALUE=DATE-TIME:20110308T120000Z
DTEND;VALUE=DATE-TIME:20110308T140000Z
DTSTAMP;VALUE=DATE-TIME:20260420T164549Z
UID:51f63c3d273db171e0b4bb7762818fe0@127.0.0.1:8095
CATEGORIES:Incontro
CONTACT:Circolo Ravone\, 051 6478495
CREATED;VALUE=DATE-TIME:20110301T105316Z
LAST-MODIFIED;VALUE=DATE-TIME:20110829T084021Z
LOCATION:Bologna\, Ospedale Maggiore
URL:https://www.ausl.bologna.it/eventi/archivio/auslevent.2011-03-01.58823
 72529
END:VEVENT
END:VCALENDAR
