BEGIN:VCALENDAR
VERSION:2.0
PRODID:-//Plone.org//NONSGML plone.app.event//EN
X-WR-TIMEZONE:Europe/Rome
BEGIN:VEVENT
SUMMARY:Terza età\, fragilità\, opportunità
DTSTART;VALUE=DATE-TIME:20110330T160000Z
DTEND;VALUE=DATE-TIME:20110330T173000Z
DTSTAMP;VALUE=DATE-TIME:20260420T164944Z
UID:00cc8a47789fd4a454f6dbab77f59d2f@127.0.0.1:8095
CATEGORIES:Incontro
CONTACT:Comune di Casalecchio di Reno\, 051 598206
CREATED;VALUE=DATE-TIME:20110301T095000Z
LAST-MODIFIED;VALUE=DATE-TIME:20110829T084018Z
LOCATION:Casalecchio di Reno\, Casa della Conoscenza
URL:https://www.ausl.bologna.it/eventi/archivio/auslevent.2011-03-01.43595
 05642
END:VEVENT
END:VCALENDAR
