BEGIN:VCALENDAR
VERSION:2.0
PRODID:-//Plone.org//NONSGML plone.app.event//EN
X-WR-TIMEZONE:Europe/Rome
BEGIN:VEVENT
SUMMARY:Festa della Donna all'Ospedale Maggiore
DTSTART;VALUE=DATE-TIME:20110308T080000Z
DTEND;VALUE=DATE-TIME:20110308T190000Z
DTSTAMP;VALUE=DATE-TIME:20260420T164615Z
UID:b1344d6424bef98313cdf00e6e2b4aa1@127.0.0.1:8095
CATEGORIES:Festa
CONTACT:Circolo Ravone\, 051 6478495
CREATED;VALUE=DATE-TIME:20110301T103752Z
DESCRIPTION:Iniziativa del Circolo Aziendale Ravone
LAST-MODIFIED;VALUE=DATE-TIME:20110829T084019Z
LOCATION:Bologna\, Ospedale Maggiore
URL:https://www.ausl.bologna.it/eventi/archivio/auslevent.2011-03-01.25594
 00044
END:VEVENT
END:VCALENDAR
