BEGIN:VCALENDAR
VERSION:2.0
PRODID:-//Plone.org//NONSGML plone.app.event//EN
X-WR-TIMEZONE:Europe/Rome
BEGIN:VEVENT
SUMMARY:Gravidanza\, parto e puerperio
DTSTART;VALUE=DATE-TIME:20110316T170000Z
DTEND;VALUE=DATE-TIME:20110316T183000Z
DTSTAMP;VALUE=DATE-TIME:20260420T164713Z
UID:dc6698b1b89dc9941040a129dc462d10@127.0.0.1:8095
CATEGORIES:Incontro
CONTACT:Comune di Casalecchio di Reno\, 051 598206
CREATED;VALUE=DATE-TIME:20110301T091340Z
LAST-MODIFIED;VALUE=DATE-TIME:20110829T084017Z
LOCATION:Casalecchio di Reno\, Casa della Conoscenza
URL:https://www.ausl.bologna.it/eventi/archivio/auslevent.2011-03-01.24323
 44119
END:VEVENT
END:VCALENDAR
