BEGIN:VCALENDAR
VERSION:2.0
PRODID:-//Plone.org//NONSGML plone.app.event//EN
X-WR-TIMEZONE:Europe/Rome
BEGIN:VEVENT
SUMMARY:Menopausa\, stili di vita per la prevenzione
DTSTART;VALUE=DATE-TIME:20110323T170000Z
DTEND;VALUE=DATE-TIME:20110323T183000Z
DTSTAMP;VALUE=DATE-TIME:20260420T165035Z
UID:711a8749c2f68003bb04ed79cf37cb00@127.0.0.1:8095
CONTACT:Comune di Casalecchio di Reno\, 051 598206
CREATED;VALUE=DATE-TIME:20110301T093553Z
LAST-MODIFIED;VALUE=DATE-TIME:20110829T084018Z
LOCATION:Casalecchio di Reno\, Casa della Conoscenza
URL:https://www.ausl.bologna.it/eventi/archivio/auslevent.2011-03-01.15596
 52451
END:VEVENT
END:VCALENDAR
