BEGIN:VCALENDAR
VERSION:2.0
PRODID:-//Plone.org//NONSGML plone.app.event//EN
X-WR-TIMEZONE:Europe/Rome
BEGIN:VEVENT
SUMMARY:Il dolore e la sofferenza nel percorso di malattia
DTSTART;VALUE=DATE-TIME:20110409T070000Z
DTEND;VALUE=DATE-TIME:20110409T120000Z
DTSTAMP;VALUE=DATE-TIME:20260420T164451Z
UID:a88f6914dae338d4594fb23d2492aca2@127.0.0.1:8095
CATEGORIES:Dibattito
CONTACT:Distretto di Casalecchio di Reno\, 051 596910\, qualita@ausl.bo.it
CREATED;VALUE=DATE-TIME:20110228T154134Z
DESCRIPTION:Riflettiamo insieme.\nLa tua partecipazione è importante.
LAST-MODIFIED;VALUE=DATE-TIME:20110829T084014Z
LOCATION:Casalecchio di Reno\, Centro BLOGOS
URL:https://www.ausl.bologna.it/eventi/archivio/auslevent.2011-02-28.97585
 69875
END:VEVENT
END:VCALENDAR
