BEGIN:VCALENDAR
VERSION:2.0
PRODID:-//Plone.org//NONSGML plone.app.event//EN
X-WR-TIMEZONE:Europe/Rome
BEGIN:VEVENT
SUMMARY:Modelli di cure palliative
DTSTART;VALUE=DATE-TIME:20110325T083000Z
DTEND;VALUE=DATE-TIME:20110325T163000Z
DTSTAMP;VALUE=DATE-TIME:20260420T164646Z
UID:9ecf73d72a08e5146d4d5718052483a5@127.0.0.1:8095
CATEGORIES:Incontro
CONTACT:Accademia delle Scienze di Medicina Palliativa\, 051 8909690\, seg
 reteria@asmepa.org
CREATED;VALUE=DATE-TIME:20110228T090721Z
DESCRIPTION:- Models for delivering palliative care - 
LAST-MODIFIED;VALUE=DATE-TIME:20110829T082814Z
LOCATION:Bentivoglio\, Castello di Bentivoglio
URL:https://www.ausl.bologna.it/eventi/archivio/auslevent.2011-02-28.70627
 82817
END:VEVENT
END:VCALENDAR
