BEGIN:VCALENDAR
VERSION:2.0
PRODID:-//Plone.org//NONSGML plone.app.event//EN
X-WR-TIMEZONE:Europe/Rome
BEGIN:VEVENT
SUMMARY:Al dutåur di mât di Nanni Garella
DTSTART;VALUE=DATE-TIME:20110302T200000Z
DTEND;VALUE=DATE-TIME:20110312T223000Z
DTSTAMP;VALUE=DATE-TIME:20260420T164944Z
UID:2aecd53edf1cbaad647df1b43a63baa6@127.0.0.1:8095
CATEGORIES:Spettacolo teatrale
CONTACT:Arena del Sole\, biglietteria@arenadelsole.it
CREATED;VALUE=DATE-TIME:20110228T113251Z
DESCRIPTION:PRIMA NAZIONALE
LAST-MODIFIED;VALUE=DATE-TIME:20110829T084013Z
LOCATION:Bologna\, Arena del Sole
URL:https://www.ausl.bologna.it/eventi/archivio/auslevent.2011-02-28.57396
 18112
END:VEVENT
END:VCALENDAR
