BEGIN:VCALENDAR
VERSION:2.0
PRODID:-//Plone.org//NONSGML plone.app.event//EN
X-WR-TIMEZONE:Europe/Rome
BEGIN:VEVENT
SUMMARY:Primo corso avanzato di chirurgia pancreatica
DTSTART;VALUE=DATE-TIME:20110221T081500Z
DTEND;VALUE=DATE-TIME:20110222T171500Z
DTSTAMP;VALUE=DATE-TIME:20260420T164645Z
UID:a6da61dad51ef630b13679abe67a3786@127.0.0.1:8095
CATEGORIES:corso
CONTACT:info@duecipromotion.com
CREATED;VALUE=DATE-TIME:20110222T131807Z
DESCRIPTION:Il corso è rivolto a Chirurghi specialisti in Chirurgia Gener
 ale che desiderano apprendere le tecniche chirurgiche\, la gestione del pa
 ziente affetto da patologia pancreatica e candidato a trattamento chirurgi
 co nelle fasi pre- intra- e post-operatoria nonché la gestione delle comp
 licanze.
LAST-MODIFIED;VALUE=DATE-TIME:20110829T082808Z
LOCATION:Bologna
URL:https://www.ausl.bologna.it/eventi/archivio/auslevent.2011-02-22.42074
 39043
END:VEVENT
END:VCALENDAR
