BEGIN:VCALENDAR
VERSION:2.0
PRODID:-//Plone.org//NONSGML plone.app.event//EN
X-WR-TIMEZONE:Europe/Rome
BEGIN:VEVENT
SUMMARY:2011 - XV Congresso Nazionale S.I.TRA.C.
DTSTART;VALUE=DATE-TIME:20110224T080000Z
DTEND;VALUE=DATE-TIME:20110226T170000Z
DTSTAMP;VALUE=DATE-TIME:20260420T164550Z
UID:8426a098941199912b7fc2fd0f1c962b@127.0.0.1:8095
CATEGORIES:Convegno
CONTACT:Jaka Congressi\, sitrac@jaka.it
CREATED;VALUE=DATE-TIME:20110209T081142Z
LAST-MODIFIED;VALUE=DATE-TIME:20110829T082805Z
LOCATION:Bologna\, Hotel Savoia Regency
URL:https://www.ausl.bologna.it/eventi/archivio/auslevent.2011-02-09.97703
 44959
END:VEVENT
END:VCALENDAR
