BEGIN:VCALENDAR
VERSION:2.0
PRODID:-//Plone.org//NONSGML plone.app.event//EN
X-WR-TIMEZONE:Europe/Rome
BEGIN:VEVENT
SUMMARY:6a Conferenza Nazionale GIMBE 
DTSTART;VALUE=DATE-TIME:20110211T080000Z
DTEND;VALUE=DATE-TIME:20110211T160000Z
DTSTAMP;VALUE=DATE-TIME:20260420T164713Z
UID:aeb74575e041376c07242b389e86ef52@127.0.0.1:8095
CATEGORIES:Convegno
CONTACT:GIMBE\, 051 5883920\, info@gimbe.org
CREATED;VALUE=DATE-TIME:20110207T123318Z
DESCRIPTION:Verso un approccio di sistema alla Clinical Governance
LAST-MODIFIED;VALUE=DATE-TIME:20110829T082803Z
URL:https://www.ausl.bologna.it/eventi/archivio/auslevent.2011-02-07.77745
 84651
END:VEVENT
END:VCALENDAR
