BEGIN:VCALENDAR
VERSION:2.0
PRODID:-//Plone.org//NONSGML plone.app.event//EN
X-WR-TIMEZONE:Europe/Rome
BEGIN:VEVENT
SUMMARY:Stile di vita: le conseguenze\, le opportunità
DTSTART;VALUE=DATE-TIME:20110213T123000Z
DTEND;VALUE=DATE-TIME:20110213T200000Z
DTSTAMP;VALUE=DATE-TIME:20260420T164550Z
UID:bb4480f2a3d8c3b57e0cfce4093ce0e8@127.0.0.1:8095
CATEGORIES:corso
CONTACT:ALBA AUXILIA\, 348 0706210\, formazione@assoalba.org
CREATED;VALUE=DATE-TIME:20110207T084117Z
LAST-MODIFIED;VALUE=DATE-TIME:20110829T082800Z
LOCATION:Bologna\, Star Hotel Excelsior
URL:https://www.ausl.bologna.it/eventi/archivio/auslevent.2011-02-07.59692
 26253
END:VEVENT
END:VCALENDAR
