BEGIN:VCALENDAR
VERSION:2.0
PRODID:-//Plone.org//NONSGML plone.app.event//EN
X-WR-TIMEZONE:Europe/Rome
BEGIN:VEVENT
SUMMARY:Prima Giornata Nazionale degli Stati Vegetativi
DTSTART;VALUE=DATE-TIME:20110209T090000Z
DTEND;VALUE=DATE-TIME:20110209T160000Z
DTSTAMP;VALUE=DATE-TIME:20260420T164644Z
UID:82f893465eceec3e99d55469f391ba00@127.0.0.1:8095
CATEGORIES:Convegno
CONTACT:Anteprimadue\, 06 5403600\, segreteriaconvegni@anteprimadue.it
CREATED;VALUE=DATE-TIME:20110207T083102Z
LAST-MODIFIED;VALUE=DATE-TIME:20110829T082752Z
LOCATION:Roma\, Centro Congressi Roma Eventi
URL:https://www.ausl.bologna.it/eventi/archivio/auslevent.2011-02-07.32870
 26990
END:VEVENT
END:VCALENDAR
