BEGIN:VCALENDAR
VERSION:2.0
PRODID:-//Plone.org//NONSGML plone.app.event//EN
X-WR-TIMEZONE:Europe/Rome
BEGIN:VEVENT
SUMMARY:Presentazione del libro “Il bambino iperattivo. Dalla teoria all
 e pratiche della cura”
DTSTART;VALUE=DATE-TIME:20110217T170000Z
DTEND;VALUE=DATE-TIME:20110217T180000Z
DTSTAMP;VALUE=DATE-TIME:20260420T164615Z
UID:0ad2b5e8a43efa577a47b3fb237bcc34@127.0.0.1:8095
CATEGORIES:Incontro
CONTACT:Centro Petit Jonas\, 051 241854\, petitjonas@jonasonlus.it
CREATED;VALUE=DATE-TIME:20110207T084611Z
LAST-MODIFIED;VALUE=DATE-TIME:20110829T082802Z
LOCATION:Bologna\, Centro Civico Quartiere Reno
URL:https://www.ausl.bologna.it/eventi/archivio/auslevent.2011-02-07.16340
 46836
END:VEVENT
END:VCALENDAR
