BEGIN:VCALENDAR
VERSION:2.0
PRODID:-//Plone.org//NONSGML plone.app.event//EN
X-WR-TIMEZONE:Europe/Rome
BEGIN:VEVENT
SUMMARY:Il tempo della precarietà. Il disagio della civiltà nel nuovo di
 scorso del capitalista
DTSTART;VALUE=DATE-TIME:20110505T130000Z
DTEND;VALUE=DATE-TIME:20110505T150000Z
DTSTAMP;VALUE=DATE-TIME:20260422T103611Z
UID:163e05ea2c6f504101c8134378e0cc57@127.0.0.1:8095
CATEGORIES:Incontro
CREATED;VALUE=DATE-TIME:20110131T135437Z
DESCRIPTION:"La società delle nominations: decadenza e perversioni nel mo
 ndo capitalista"
LAST-MODIFIED;VALUE=DATE-TIME:20110829T082750Z
LOCATION:Bologna\, Facoltà di Scienze Politiche - Dipartimento di Sociolo
 gia
URL:https://www.ausl.bologna.it/eventi/archivio/auslevent.2011-01-31.95625
 72515
END:VEVENT
END:VCALENDAR
