BEGIN:VCALENDAR
VERSION:2.0
PRODID:-//Plone.org//NONSGML plone.app.event//EN
X-WR-TIMEZONE:Europe/Rome
BEGIN:VEVENT
SUMMARY:Il tempo della precarietà. Il disagio della civiltà nel nuovo di
 scorso del capitalista
DTSTART;VALUE=DATE-TIME:20110414T130000Z
DTEND;VALUE=DATE-TIME:20110414T150000Z
DTSTAMP;VALUE=DATE-TIME:20260420T164615Z
UID:f56e5a334a4ffa63af238e7c7596090b@127.0.0.1:8095
CATEGORIES:Incontro
CREATED;VALUE=DATE-TIME:20110131T134454Z
DESCRIPTION:"Crisi economica e crisi di identità" - Dott. Daniele Benini
LAST-MODIFIED;VALUE=DATE-TIME:20110829T082749Z
LOCATION:Bologna\, Facoltà di Scienze Politiche - Dipartimento di Sociolo
 gia
URL:https://www.ausl.bologna.it/eventi/archivio/auslevent.2011-01-31.41711
 51152
END:VEVENT
END:VCALENDAR
