BEGIN:VCALENDAR
VERSION:2.0
PRODID:-//Plone.org//NONSGML plone.app.event//EN
X-WR-TIMEZONE:Europe/Rome
BEGIN:VEVENT
SUMMARY:Il tempo della precarietà. Il disagio della civiltà nel nuovo di
 scorso del capitalista
DTSTART;VALUE=DATE-TIME:20110331T130000Z
DTEND;VALUE=DATE-TIME:20110331T150000Z
DTSTAMP;VALUE=DATE-TIME:20260420T164614Z
UID:ce8cb340fd24ef24a7a1c279ac15e07a@127.0.0.1:8095
CATEGORIES:Incontro
CREATED;VALUE=DATE-TIME:20110131T134302Z
DESCRIPTION:"Work in progress: perdita del lavoro e lavoro di parola" - Do
 tt.ssa Laura Zancola
LAST-MODIFIED;VALUE=DATE-TIME:20110829T082748Z
LOCATION:Bologna\, Facoltà di Scienze Politiche - Dipartimento di Sociolo
 gia
URL:https://www.ausl.bologna.it/eventi/archivio/auslevent.2011-01-31.30480
 23922
END:VEVENT
END:VCALENDAR
