BEGIN:VCALENDAR
VERSION:2.0
PRODID:-//Plone.org//NONSGML plone.app.event//EN
X-WR-TIMEZONE:Europe/Rome
BEGIN:VEVENT
SUMMARY:Il tempo della precarietà. Il disagio della civiltà nel nuovo di
 scorso del capitalista
DTSTART;VALUE=DATE-TIME:20110324T140000Z
DTEND;VALUE=DATE-TIME:20110324T160000Z
DTSTAMP;VALUE=DATE-TIME:20260420T164646Z
UID:c01deadf836300846a942c07a579d5ac@127.0.0.1:8095
CATEGORIES:Incontro
CREATED;VALUE=DATE-TIME:20110131T134019Z
DESCRIPTION:"Il dio denaro: massa dell'inflazione e svaltazione soggettiva
 " - Dott. Mario Giorgetti Fumel
LAST-MODIFIED;VALUE=DATE-TIME:20110829T082747Z
LOCATION:Bologna\, Facoltà di Scienze Politiche - Dipartimento di Sociolo
 gia
URL:https://www.ausl.bologna.it/eventi/archivio/auslevent.2011-01-31.12178
 21708
END:VEVENT
END:VCALENDAR
