BEGIN:VCALENDAR
VERSION:2.0
PRODID:-//Plone.org//NONSGML plone.app.event//EN
X-WR-TIMEZONE:Europe/Rome
BEGIN:VEVENT
SUMMARY:Le mani nella creta. I mondi di Ilario Fioravanti
DTSTART;VALUE=DATE-TIME:20110201T170000Z
DTEND;VALUE=DATE-TIME:20110201T190000Z
DTSTAMP;VALUE=DATE-TIME:20260420T164550Z
UID:521001da6a371769b352cc7b140889a7@127.0.0.1:8095
CATEGORIES:Incontro con l'autore
CREATED;VALUE=DATE-TIME:20110127T134049Z
DESCRIPTION:Presentazione del libro di Vittorino Andreoli
LAST-MODIFIED;VALUE=DATE-TIME:20110829T082734Z
LOCATION:Bologna\, Oratorio della Vita
URL:https://www.ausl.bologna.it/eventi/archivio/auslevent.2011-01-27.23673
 56603
END:VEVENT
END:VCALENDAR
