BEGIN:VCALENDAR
VERSION:2.0
PRODID:-//Plone.org//NONSGML plone.app.event//EN
X-WR-TIMEZONE:Europe/Rome
BEGIN:VEVENT
SUMMARY:Presentazione del libro "ALIMENTAZIONE TASCABILE" di Carlo Lesi
DTSTART;VALUE=DATE-TIME:20110205T160000Z
DTEND;VALUE=DATE-TIME:20110205T173000Z
DTSTAMP;VALUE=DATE-TIME:20260420T164645Z
UID:e60af198d59ac1d819506e8a531e8d7d@127.0.0.1:8095
CATEGORIES:Incontro con l'autore
CREATED;VALUE=DATE-TIME:20110117T125815Z
DESCRIPTION:Ne parlano con l’autore Franco Contaldo e Paola Rubbi \n
LAST-MODIFIED;VALUE=DATE-TIME:20110725T080735Z
LOCATION:Bologna\, Palazzo Zani
URL:https://www.ausl.bologna.it/eventi/archivio/auslevent.2011-01-17.81061
 71564
END:VEVENT
END:VCALENDAR
