BEGIN:VCALENDAR
VERSION:2.0
PRODID:-//Plone.org//NONSGML plone.app.event//EN
X-WR-TIMEZONE:Europe/Rome
BEGIN:VEVENT
SUMMARY:Le sorveglianze sugli stili di vita. Benessere psicofisico e compo
 rtamenti a rischio in adolescenza
DTSTART;VALUE=DATE-TIME:20110217T080000Z
DTEND;VALUE=DATE-TIME:20110217T153000Z
DTSTAMP;VALUE=DATE-TIME:20260420T164614Z
UID:4381871d19e8af81cc53a4b28f353d32@127.0.0.1:8095
CATEGORIES:seminario
CONTACT:Chiara Tomasini\, 0543 733530\, c.tomasini@ausl.fo.it
CREATED;VALUE=DATE-TIME:20110110T095017Z
LAST-MODIFIED;VALUE=DATE-TIME:20110322T104718Z
LOCATION:Forlì\, Sala congressi della Camera di Commercio
URL:https://www.ausl.bologna.it/eventi/archivio/auslevent.2011-01-10.87322
 34736
END:VEVENT
END:VCALENDAR
