BEGIN:VCALENDAR
VERSION:2.0
PRODID:-//Plone.org//NONSGML plone.app.event//EN
X-WR-TIMEZONE:Europe/Rome
BEGIN:VEVENT
SUMMARY:La gestione antibiotica nel malato con sepsi
DTSTART;VALUE=DATE-TIME:20110119T133000Z
DTEND;VALUE=DATE-TIME:20110119T153000Z
DTSTAMP;VALUE=DATE-TIME:20260420T165017Z
UID:53e4fa497b49ecb7201a17e5ec2168ec@127.0.0.1:8095
CATEGORIES:Incontro
CONTACT:Maurizio Ventrucci\, maurizio.ventrucci@ausl.bologna.it
CREATED;VALUE=DATE-TIME:20101230T113702Z
DESCRIPTION:Lettura del Prof. Pierluigi Viale\,  direttore della Infettivo
 logia dell'Ospedale S. Orsola
LAST-MODIFIED;VALUE=DATE-TIME:20110322T104709Z
LOCATION:Bentivoglio\, Ospedale civile
URL:https://www.ausl.bologna.it/eventi/archivio/auslevent.2010-12-30.80548
 91365
END:VEVENT
END:VCALENDAR
