BEGIN:VCALENDAR
VERSION:2.0
PRODID:-//Plone.org//NONSGML plone.app.event//EN
X-WR-TIMEZONE:Europe/Rome
BEGIN:VEVENT
SUMMARY:Adolescenti e sostanze psicoattive
DTSTART;VALUE=DATE-TIME:20110223T080000Z
DTEND;VALUE=DATE-TIME:20110223T160000Z
DTSTAMP;VALUE=DATE-TIME:20260420T164714Z
UID:f4dd66e12e5f1c202a7638156d79b2a4@127.0.0.1:8095
CONTACT:Elsa Turino\, 051/272870\, e.turino@ausl.bologna.it
CREATED;VALUE=DATE-TIME:20101229T160204Z
DESCRIPTION:Giornata di studio
LAST-MODIFIED;VALUE=DATE-TIME:20110322T104708Z
LOCATION:Aula A - Via Belmeloro 14\, Bologna
URL:https://www.ausl.bologna.it/eventi/archivio/auslevent.2010-12-29.28011
 28212
END:VEVENT
END:VCALENDAR
