BEGIN:VCALENDAR
VERSION:2.0
PRODID:-//Plone.org//NONSGML plone.app.event//EN
X-WR-TIMEZONE:Europe/Rome
BEGIN:VEVENT
SUMMARY:Diventare genitori: l'arrivo di un figlio
DTSTART;VALUE=DATE-TIME:20110302T160000Z
DTEND;VALUE=DATE-TIME:20110302T180000Z
DTSTAMP;VALUE=DATE-TIME:20260420T164944Z
UID:32d0c1cbd9c6c67e290ddd5238a5386c@127.0.0.1:8095
CATEGORIES:Incontro
CREATED;VALUE=DATE-TIME:20101220T090758Z
DESCRIPTION:Travaglio\, parto e controllo del dolore
LAST-MODIFIED;VALUE=DATE-TIME:20110725T080727Z
LOCATION:Bologna\, Sala Borsa
URL:https://www.ausl.bologna.it/eventi/archivio/auslevent.2010-12-20.97584
 93931
END:VEVENT
END:VCALENDAR
