BEGIN:VCALENDAR
VERSION:2.0
PRODID:-//Plone.org//NONSGML plone.app.event//EN
X-WR-TIMEZONE:Europe/Rome
BEGIN:VEVENT
SUMMARY:Diventare genitori: l'arrivo di un figlio
DTSTART;VALUE=DATE-TIME:20110511T150000Z
DTEND;VALUE=DATE-TIME:20110511T170000Z
DTSTAMP;VALUE=DATE-TIME:20260420T164644Z
UID:08a65242926a421e69133533303a554a@127.0.0.1:8095
CATEGORIES:Incontro
CREATED;VALUE=DATE-TIME:20101220T104804Z
DESCRIPTION:Rispondere a tanti perchè
LAST-MODIFIED;VALUE=DATE-TIME:20110725T080732Z
LOCATION:Bologna\, Sala Borsa
URL:https://www.ausl.bologna.it/eventi/archivio/auslevent.2010-12-20.97238
 15835
END:VEVENT
END:VCALENDAR
