BEGIN:VCALENDAR
VERSION:2.0
PRODID:-//Plone.org//NONSGML plone.app.event//EN
X-WR-TIMEZONE:Europe/Rome
BEGIN:VEVENT
SUMMARY:AUSILI E SOLUZIONI
DTSTART;VALUE=DATE-TIME:20101216T073000Z
DTEND;VALUE=DATE-TIME:20101216T160000Z
DTSTAMP;VALUE=DATE-TIME:20260420T164713Z
UID:8b7c016a2d727f014a485f8dc684b604@127.0.0.1:8095
CATEGORIES:Convegno
CONTACT:Simona Muzzioli\, formazione@ausilioteca.org
CREATED;VALUE=DATE-TIME:20101210T101657Z
DESCRIPTION:Per la qualità della vita in una società che cambia: sfide e
  opportunità
LAST-MODIFIED;VALUE=DATE-TIME:20101220T085102Z
LOCATION:Bologna\, Sala Polivalente dell'Assemblea Legislativa
URL:https://www.ausl.bologna.it/eventi/archivio/auslevent.2010-12-10.93928
 67279
END:VEVENT
END:VCALENDAR
